Package: oncomix Version: 1.22.0 Command: rm -rf oncomix.buildbin-libdir && mkdir oncomix.buildbin-libdir && /Users/biocbuild/BBS/utils/build-universal.sh oncomix_1.22.0.tar.gz /Library/Frameworks/R.framework/Resources/bin/R oncomix.buildbin-libdir StartedAt: 2023-10-16 09:51:45 -0400 (Mon, 16 Oct 2023) EndedAt: 2023-10-16 09:53:00 -0400 (Mon, 16 Oct 2023) EllapsedTime: 75.0 seconds RetCode: 0 Status: OK PackageFile: oncomix_1.22.0.tgz PackageFileSize: 2.398 MiB