Package: ompBAM Version: 1.4.0 Command: rm -rf ompBAM.buildbin-libdir && mkdir ompBAM.buildbin-libdir && F:\biocbuild\bbs-3.17-bioc\R\bin\R.exe CMD INSTALL --build --library=ompBAM.buildbin-libdir ompBAM_1.4.0.tar.gz StartedAt: 2023-10-16 09:12:36 -0400 (Mon, 16 Oct 2023) EndedAt: 2023-10-16 09:12:41 -0400 (Mon, 16 Oct 2023) EllapsedTime: 5.2 seconds RetCode: 0 Status: OK PackageFile: ompBAM_1.4.0.zip PackageFileSize: 3.157 MiB