Package: ompBAM Version: 1.4.0 Command: /Library/Frameworks/R.framework/Resources/bin/R CMD INSTALL ompBAM StartedAt: 2023-10-15 16:19:14 -0400 (Sun, 15 Oct 2023) EndedAt: 2023-10-15 16:19:20 -0400 (Sun, 15 Oct 2023) EllapsedTime: 6.4 seconds RetCode: 0 Status: OK