Package: omicsViewer Version: 1.4.0 Command: F:\biocbuild\bbs-3.17-bioc\R\bin\R.exe CMD INSTALL omicsViewer StartedAt: 2023-10-15 16:59:35 -0400 (Sun, 15 Oct 2023) EndedAt: 2023-10-15 17:00:17 -0400 (Sun, 15 Oct 2023) EllapsedTime: 42.2 seconds RetCode: 0 Status: OK