Package: omicsViewer Version: 1.4.0 Command: rm -rf omicsViewer.buildbin-libdir && mkdir omicsViewer.buildbin-libdir && F:\biocbuild\bbs-3.17-bioc\R\bin\R.exe CMD INSTALL --build --library=omicsViewer.buildbin-libdir omicsViewer_1.4.0.tar.gz StartedAt: 2023-10-16 09:12:28 -0400 (Mon, 16 Oct 2023) EndedAt: 2023-10-16 09:13:10 -0400 (Mon, 16 Oct 2023) EllapsedTime: 42.4 seconds RetCode: 0 Status: OK PackageFile: omicsViewer_1.4.0.zip PackageFileSize: 4.327 MiB