Package: omicsViewer Version: 1.4.0 Command: /home/biocbuild/bbs-3.17-bioc/R/bin/R CMD check --install=check:omicsViewer.install-out.txt --library=/home/biocbuild/bbs-3.17-bioc/R/site-library --timings omicsViewer_1.4.0.tar.gz StartedAt: 2023-10-15 23:25:44 -0400 (Sun, 15 Oct 2023) EndedAt: 2023-10-15 23:31:30 -0400 (Sun, 15 Oct 2023) EllapsedTime: 345.7 seconds RetCode: 0 Status: OK CheckDir: omicsViewer.Rcheck Warnings: 0