Package: omicsViewer Version: 1.4.0 Command: /Library/Frameworks/R.framework/Resources/bin/R CMD INSTALL omicsViewer StartedAt: 2023-10-15 16:25:02 -0400 (Sun, 15 Oct 2023) EndedAt: 2023-10-15 16:26:52 -0400 (Sun, 15 Oct 2023) EllapsedTime: 110.1 seconds RetCode: 0 Status: OK