Package: omicsViewer Version: 1.4.0 Command: /Library/Frameworks/R.framework/Resources/bin/R CMD check --install=check:omicsViewer.install-out.txt --library=/Library/Frameworks/R.framework/Resources/library --no-vignettes --timings omicsViewer_1.4.0.tar.gz StartedAt: 2023-10-16 04:47:59 -0400 (Mon, 16 Oct 2023) EndedAt: 2023-10-16 04:59:09 -0400 (Mon, 16 Oct 2023) EllapsedTime: 670.4 seconds RetCode: 0 Status: OK CheckDir: omicsViewer.Rcheck Warnings: 0