Package: omicsViewer Version: 1.4.0 Command: rm -rf omicsViewer.buildbin-libdir && mkdir omicsViewer.buildbin-libdir && /Users/biocbuild/BBS/utils/build-universal.sh omicsViewer_1.4.0.tar.gz /Library/Frameworks/R.framework/Resources/bin/R omicsViewer.buildbin-libdir StartedAt: 2023-10-16 09:51:32 -0400 (Mon, 16 Oct 2023) EndedAt: 2023-10-16 09:53:28 -0400 (Mon, 16 Oct 2023) EllapsedTime: 116.0 seconds RetCode: 0 Status: OK PackageFile: omicsViewer_1.4.0.tgz PackageFileSize: 4.327 MiB