Package: omicsPrint Version: 1.20.0 Command: /home/biocbuild/bbs-3.17-bioc/R/bin/R CMD check --install=check:omicsPrint.install-out.txt --library=/home/biocbuild/bbs-3.17-bioc/R/site-library --timings omicsPrint_1.20.0.tar.gz StartedAt: 2023-10-15 23:25:27 -0400 (Sun, 15 Oct 2023) EndedAt: 2023-10-15 23:28:36 -0400 (Sun, 15 Oct 2023) EllapsedTime: 189.2 seconds RetCode: 0 Status: WARNINGS CheckDir: omicsPrint.Rcheck Warnings: 1