Package: omicsPrint Version: 1.20.0 Command: /Library/Frameworks/R.framework/Resources/bin/R CMD check --install=check:omicsPrint.install-out.txt --library=/Library/Frameworks/R.framework/Resources/library --no-vignettes --timings omicsPrint_1.20.0.tar.gz StartedAt: 2023-10-16 04:47:46 -0400 (Mon, 16 Oct 2023) EndedAt: 2023-10-16 04:54:16 -0400 (Mon, 16 Oct 2023) EllapsedTime: 389.9 seconds RetCode: 0 Status: WARNINGS CheckDir: omicsPrint.Rcheck Warnings: 1