Package: omicsPrint Version: 1.20.0 Command: /Library/Frameworks/R.framework/Resources/bin/R CMD build --keep-empty-dirs --no-resave-data omicsPrint StartedAt: 2023-10-15 19:59:39 -0400 (Sun, 15 Oct 2023) EndedAt: 2023-10-15 20:02:04 -0400 (Sun, 15 Oct 2023) EllapsedTime: 145.6 seconds RetCode: 0 Status: OK PackageFile: omicsPrint_1.20.0.tar.gz PackageFileSize: 4.267 MiB