Package: omicsPrint Version: 1.20.0 Command: rm -rf omicsPrint.buildbin-libdir && mkdir omicsPrint.buildbin-libdir && /Users/biocbuild/BBS/utils/build-universal.sh omicsPrint_1.20.0.tar.gz /Library/Frameworks/R.framework/Resources/bin/R omicsPrint.buildbin-libdir StartedAt: 2023-10-16 09:51:28 -0400 (Mon, 16 Oct 2023) EndedAt: 2023-10-16 09:52:57 -0400 (Mon, 16 Oct 2023) EllapsedTime: 88.6 seconds RetCode: 0 Status: OK PackageFile: omicsPrint_1.20.0.tgz PackageFileSize: 7.816 MiB