Package: omicplotR Version: 1.20.0 Command: F:\biocbuild\bbs-3.17-bioc\R\bin\R.exe CMD INSTALL omicplotR StartedAt: 2023-10-15 16:45:01 -0400 (Sun, 15 Oct 2023) EndedAt: 2023-10-15 16:45:29 -0400 (Sun, 15 Oct 2023) EllapsedTime: 28.1 seconds RetCode: 0 Status: OK