Package: omicplotR Version: 1.20.0 Command: chmod a+r omicplotR -R && F:\biocbuild\bbs-3.17-bioc\R\bin\R.exe CMD build --keep-empty-dirs --no-resave-data omicplotR StartedAt: 2023-10-15 20:58:03 -0400 (Sun, 15 Oct 2023) EndedAt: 2023-10-15 20:58:31 -0400 (Sun, 15 Oct 2023) EllapsedTime: 28.2 seconds RetCode: 0 Status: OK PackageFile: omicplotR_1.20.0.tar.gz PackageFileSize: 1.64 MiB