Package: omicplotR Version: 1.20.0 Command: rm -rf omicplotR.buildbin-libdir && mkdir omicplotR.buildbin-libdir && F:\biocbuild\bbs-3.17-bioc\R\bin\R.exe CMD INSTALL --build --library=omicplotR.buildbin-libdir omicplotR_1.20.0.tar.gz StartedAt: 2023-10-16 09:12:17 -0400 (Mon, 16 Oct 2023) EndedAt: 2023-10-16 09:12:45 -0400 (Mon, 16 Oct 2023) EllapsedTime: 27.8 seconds RetCode: 0 Status: OK PackageFile: omicplotR_1.20.0.zip PackageFileSize: 1.184 MiB