Package: omicplotR Version: 1.20.0 Command: /home/biocbuild/bbs-3.17-bioc/R/bin/R CMD build --keep-empty-dirs --no-resave-data omicplotR StartedAt: 2023-10-15 17:43:48 -0400 (Sun, 15 Oct 2023) EndedAt: 2023-10-15 17:44:21 -0400 (Sun, 15 Oct 2023) EllapsedTime: 32.6 seconds RetCode: 0 Status: OK PackageFile: omicplotR_1.20.0.tar.gz PackageFileSize: 1.64 MiB