Package: omicade4 Version: 1.40.0 Command: F:\biocbuild\bbs-3.17-bioc\R\bin\R.exe CMD check --no-multiarch --install=check:omicade4.install-out.txt --library=F:\biocbuild\bbs-3.17-bioc\R\library --no-vignettes --timings omicade4_1.40.0.tar.gz StartedAt: 2023-10-16 04:53:40 -0400 (Mon, 16 Oct 2023) EndedAt: 2023-10-16 04:55:59 -0400 (Mon, 16 Oct 2023) EllapsedTime: 139.8 seconds RetCode: 0 Status: OK CheckDir: omicade4.Rcheck Warnings: 0