Package: omicade4 Version: 1.40.0 Command: chmod a+r omicade4 -R && F:\biocbuild\bbs-3.17-bioc\R\bin\R.exe CMD build --keep-empty-dirs --no-resave-data omicade4 StartedAt: 2023-10-15 20:57:45 -0400 (Sun, 15 Oct 2023) EndedAt: 2023-10-15 20:58:21 -0400 (Sun, 15 Oct 2023) EllapsedTime: 36.0 seconds RetCode: 0 Status: OK PackageFile: omicade4_1.40.0.tar.gz PackageFileSize: 545.9 KiB