Package: omicade4 Version: 1.40.0 Command: rm -rf omicade4.buildbin-libdir && mkdir omicade4.buildbin-libdir && F:\biocbuild\bbs-3.17-bioc\R\bin\R.exe CMD INSTALL --build --library=omicade4.buildbin-libdir omicade4_1.40.0.tar.gz StartedAt: 2023-10-16 09:12:11 -0400 (Mon, 16 Oct 2023) EndedAt: 2023-10-16 09:12:36 -0400 (Mon, 16 Oct 2023) EllapsedTime: 24.9 seconds RetCode: 0 Status: OK PackageFile: omicade4_1.40.0.zip PackageFileSize: 616.4 KiB