Package: omicade4 Version: 1.40.0 Command: /home/biocbuild/bbs-3.17-bioc/R/bin/R CMD INSTALL omicade4 StartedAt: 2023-10-15 15:12:01 -0400 (Sun, 15 Oct 2023) EndedAt: 2023-10-15 15:12:21 -0400 (Sun, 15 Oct 2023) EllapsedTime: 19.7 seconds RetCode: 0 Status: OK