Package: omicade4 Version: 1.40.0 Command: /Library/Frameworks/R.framework/Resources/bin/R CMD check --install=check:omicade4.install-out.txt --library=/Library/Frameworks/R.framework/Resources/library --no-vignettes --timings omicade4_1.40.0.tar.gz StartedAt: 2023-10-16 04:46:35 -0400 (Mon, 16 Oct 2023) EndedAt: 2023-10-16 04:52:30 -0400 (Mon, 16 Oct 2023) EllapsedTime: 355.1 seconds RetCode: 0 Status: OK CheckDir: omicade4.Rcheck Warnings: 0