Package: omicade4 Version: 1.40.0 Command: /Library/Frameworks/R.framework/Resources/bin/R CMD build --keep-empty-dirs --no-resave-data omicade4 StartedAt: 2023-10-15 19:58:50 -0400 (Sun, 15 Oct 2023) EndedAt: 2023-10-15 20:00:11 -0400 (Sun, 15 Oct 2023) EllapsedTime: 81.3 seconds RetCode: 0 Status: OK PackageFile: omicade4_1.40.0.tar.gz PackageFileSize: 544.3 KiB