Package: omicade4 Version: 1.40.0 Command: rm -rf omicade4.buildbin-libdir && mkdir omicade4.buildbin-libdir && /Users/biocbuild/BBS/utils/build-universal.sh omicade4_1.40.0.tar.gz /Library/Frameworks/R.framework/Resources/bin/R omicade4.buildbin-libdir StartedAt: 2023-10-16 09:51:21 -0400 (Mon, 16 Oct 2023) EndedAt: 2023-10-16 09:52:31 -0400 (Mon, 16 Oct 2023) EllapsedTime: 69.8 seconds RetCode: 0 Status: OK PackageFile: omicade4_1.40.0.tgz PackageFileSize: 612 KiB