Package: omicRexposome Version: 1.22.0 Command: F:\biocbuild\bbs-3.17-bioc\R\bin\R.exe CMD check --no-multiarch --install=check:omicRexposome.install-out.txt --library=F:\biocbuild\bbs-3.17-bioc\R\library --no-vignettes --timings omicRexposome_1.22.0.tar.gz StartedAt: 2023-10-16 04:53:48 -0400 (Mon, 16 Oct 2023) EndedAt: 2023-10-16 04:58:03 -0400 (Mon, 16 Oct 2023) EllapsedTime: 255.7 seconds RetCode: 0 Status: OK CheckDir: omicRexposome.Rcheck Warnings: 0