Package: omicRexposome Version: 1.22.0 Command: rm -rf omicRexposome.buildbin-libdir && mkdir omicRexposome.buildbin-libdir && F:\biocbuild\bbs-3.17-bioc\R\bin\R.exe CMD INSTALL --build --library=omicRexposome.buildbin-libdir omicRexposome_1.22.0.tar.gz StartedAt: 2023-10-16 09:12:19 -0400 (Mon, 16 Oct 2023) EndedAt: 2023-10-16 09:13:17 -0400 (Mon, 16 Oct 2023) EllapsedTime: 58.4 seconds RetCode: 0 Status: OK PackageFile: omicRexposome_1.22.0.zip PackageFileSize: 2.212 MiB