Package: omicRexposome Version: 1.22.0 Command: /home/biocbuild/bbs-3.17-bioc/R/bin/R CMD INSTALL omicRexposome StartedAt: 2023-10-15 15:41:11 -0400 (Sun, 15 Oct 2023) EndedAt: 2023-10-15 15:41:55 -0400 (Sun, 15 Oct 2023) EllapsedTime: 43.8 seconds RetCode: 0 Status: OK