Package: omicRexposome Version: 1.22.0 Command: /Library/Frameworks/R.framework/Resources/bin/R CMD build --keep-empty-dirs --no-resave-data omicRexposome StartedAt: 2023-10-15 19:59:25 -0400 (Sun, 15 Oct 2023) EndedAt: 2023-10-15 20:24:48 -0400 (Sun, 15 Oct 2023) EllapsedTime: 1523.4 seconds RetCode: 0 Status: OK PackageFile: omicRexposome_1.22.0.tar.gz PackageFileSize: 2.461 MiB