Package: oligo Version: 1.64.1 Command: F:\biocbuild\bbs-3.17-bioc\R\bin\R.exe CMD INSTALL oligo StartedAt: 2023-10-15 16:05:09 -0400 (Sun, 15 Oct 2023) EndedAt: 2023-10-15 16:06:10 -0400 (Sun, 15 Oct 2023) EllapsedTime: 60.3 seconds RetCode: 0 Status: OK