Package: oligo Version: 1.64.1 Command: rm -rf oligo.buildbin-libdir && mkdir oligo.buildbin-libdir && F:\biocbuild\bbs-3.17-bioc\R\bin\R.exe CMD INSTALL --build --library=oligo.buildbin-libdir oligo_1.64.1.tar.gz StartedAt: 2023-10-16 09:12:01 -0400 (Mon, 16 Oct 2023) EndedAt: 2023-10-16 09:13:12 -0400 (Mon, 16 Oct 2023) EllapsedTime: 70.8 seconds RetCode: 0 Status: OK PackageFile: oligo_1.64.1.zip PackageFileSize: 27.84 MiB