Package: oligo Version: 1.64.1 Command: /home/biocbuild/bbs-3.17-bioc/R/bin/R CMD check --install=check:oligo.install-out.txt --library=/home/biocbuild/bbs-3.17-bioc/R/site-library --timings oligo_1.64.1.tar.gz StartedAt: 2023-10-15 23:23:45 -0400 (Sun, 15 Oct 2023) EndedAt: 2023-10-15 23:29:04 -0400 (Sun, 15 Oct 2023) EllapsedTime: 318.8 seconds RetCode: 0 Status: WARNINGS CheckDir: oligo.Rcheck Warnings: 6