Package: oligo Version: 1.64.1 Command: /home/biocbuild/bbs-3.17-bioc/R/bin/R CMD build --keep-empty-dirs --no-resave-data oligo StartedAt: 2023-10-15 17:42:59 -0400 (Sun, 15 Oct 2023) EndedAt: 2023-10-15 17:43:50 -0400 (Sun, 15 Oct 2023) EllapsedTime: 51.5 seconds RetCode: 0 Status: OK PackageFile: oligo_1.64.1.tar.gz PackageFileSize: 27.1 MiB