Package: oligo Version: 1.64.1 Command: /Library/Frameworks/R.framework/Resources/bin/R CMD check --install=check:oligo.install-out.txt --library=/Library/Frameworks/R.framework/Resources/library --no-vignettes --timings oligo_1.64.1.tar.gz StartedAt: 2023-10-16 04:45:41 -0400 (Mon, 16 Oct 2023) EndedAt: 2023-10-16 04:58:36 -0400 (Mon, 16 Oct 2023) EllapsedTime: 775.2 seconds RetCode: 0 Status: WARNINGS CheckDir: oligo.Rcheck Warnings: 6