Package: nullranges Version: 1.6.2 Command: chmod a+r nullranges -R && F:\biocbuild\bbs-3.17-bioc\R\bin\R.exe CMD build --keep-empty-dirs --no-resave-data nullranges StartedAt: 2023-10-15 20:55:17 -0400 (Sun, 15 Oct 2023) EndedAt: 2023-10-15 20:58:10 -0400 (Sun, 15 Oct 2023) EllapsedTime: 172.9 seconds RetCode: 0 Status: OK PackageFile: nullranges_1.6.2.tar.gz PackageFileSize: 3.784 MiB