Package: nullranges Version: 1.6.2 Command: /home/biocbuild/bbs-3.17-bioc/R/bin/R CMD check --install=check:nullranges.install-out.txt --library=/home/biocbuild/bbs-3.17-bioc/R/site-library --timings nullranges_1.6.2.tar.gz StartedAt: 2023-10-15 23:22:58 -0400 (Sun, 15 Oct 2023) EndedAt: 2023-10-15 23:30:56 -0400 (Sun, 15 Oct 2023) EllapsedTime: 477.8 seconds RetCode: 0 Status: OK CheckDir: nullranges.Rcheck Warnings: 0