Package: nullranges Version: 1.6.2 Command: /home/biocbuild/bbs-3.17-bioc/R/bin/R CMD build --keep-empty-dirs --no-resave-data nullranges StartedAt: 2023-10-15 17:42:20 -0400 (Sun, 15 Oct 2023) EndedAt: 2023-10-15 17:46:02 -0400 (Sun, 15 Oct 2023) EllapsedTime: 222.2 seconds RetCode: 0 Status: OK PackageFile: nullranges_1.6.2.tar.gz PackageFileSize: 4.707 MiB