Package: nullranges Version: 1.6.2 Command: /Library/Frameworks/R.framework/Resources/bin/R CMD check --install=check:nullranges.install-out.txt --library=/Library/Frameworks/R.framework/Resources/library --no-vignettes --timings nullranges_1.6.2.tar.gz StartedAt: 2023-10-16 04:44:15 -0400 (Mon, 16 Oct 2023) EndedAt: 2023-10-16 04:54:31 -0400 (Mon, 16 Oct 2023) EllapsedTime: 615.6 seconds RetCode: 0 Status: OK CheckDir: nullranges.Rcheck Warnings: 0