Package: nucleoSim Version: 1.28.0 Command: rm -rf nucleoSim.buildbin-libdir && mkdir nucleoSim.buildbin-libdir && F:\biocbuild\bbs-3.17-bioc\R\bin\R.exe CMD INSTALL --build --library=nucleoSim.buildbin-libdir nucleoSim_1.28.0.tar.gz StartedAt: 2023-10-16 09:11:41 -0400 (Mon, 16 Oct 2023) EndedAt: 2023-10-16 09:11:56 -0400 (Mon, 16 Oct 2023) EllapsedTime: 14.8 seconds RetCode: 0 Status: OK PackageFile: nucleoSim_1.28.0.zip PackageFileSize: 338.2 KiB