Package: nucleoSim Version: 1.28.0 Command: /Library/Frameworks/R.framework/Resources/bin/R CMD INSTALL nucleoSim StartedAt: 2023-10-15 15:09:46 -0400 (Sun, 15 Oct 2023) EndedAt: 2023-10-15 15:10:24 -0400 (Sun, 15 Oct 2023) EllapsedTime: 38.8 seconds RetCode: 0 Status: OK