Package: nucleoSim Version: 1.28.0 Command: /Library/Frameworks/R.framework/Resources/bin/R CMD build --keep-empty-dirs --no-resave-data nucleoSim StartedAt: 2023-10-15 19:57:19 -0400 (Sun, 15 Oct 2023) EndedAt: 2023-10-15 19:57:47 -0400 (Sun, 15 Oct 2023) EllapsedTime: 28.3 seconds RetCode: 0 Status: OK PackageFile: nucleoSim_1.28.0.tar.gz PackageFileSize: 440.6 KiB