Package: nucleoSim Version: 1.28.0 Command: rm -rf nucleoSim.buildbin-libdir && mkdir nucleoSim.buildbin-libdir && /Users/biocbuild/BBS/utils/build-universal.sh nucleoSim_1.28.0.tar.gz /Library/Frameworks/R.framework/Resources/bin/R nucleoSim.buildbin-libdir StartedAt: 2023-10-16 09:50:53 -0400 (Mon, 16 Oct 2023) EndedAt: 2023-10-16 09:51:32 -0400 (Mon, 16 Oct 2023) EllapsedTime: 38.6 seconds RetCode: 0 Status: OK PackageFile: nucleoSim_1.28.0.tgz PackageFileSize: 471.8 KiB