Package: nucleR Version: 2.32.0 Command: F:\biocbuild\bbs-3.17-bioc\R\bin\R.exe CMD check --no-multiarch --install=check:nucleR.install-out.txt --library=F:\biocbuild\bbs-3.17-bioc\R\library --no-vignettes --timings nucleR_2.32.0.tar.gz StartedAt: 2023-10-16 04:49:44 -0400 (Mon, 16 Oct 2023) EndedAt: 2023-10-16 04:53:50 -0400 (Mon, 16 Oct 2023) EllapsedTime: 246.6 seconds RetCode: 0 Status: WARNINGS CheckDir: nucleR.Rcheck Warnings: 1