Package: nucleR Version: 2.32.0 Command: rm -rf nucleR.buildbin-libdir && mkdir nucleR.buildbin-libdir && F:\biocbuild\bbs-3.17-bioc\R\bin\R.exe CMD INSTALL --build --library=nucleR.buildbin-libdir nucleR_2.32.0.tar.gz StartedAt: 2023-10-16 09:11:43 -0400 (Mon, 16 Oct 2023) EndedAt: 2023-10-16 09:12:26 -0400 (Mon, 16 Oct 2023) EllapsedTime: 43.2 seconds RetCode: 0 Status: OK PackageFile: nucleR_2.32.0.zip PackageFileSize: 1.284 MiB