Package: nucleR Version: 2.32.0 Command: /Library/Frameworks/R.framework/Resources/bin/R CMD build --keep-empty-dirs --no-resave-data nucleR StartedAt: 2023-10-15 19:57:24 -0400 (Sun, 15 Oct 2023) EndedAt: 2023-10-15 20:00:34 -0400 (Sun, 15 Oct 2023) EllapsedTime: 189.5 seconds RetCode: 0 Status: OK PackageFile: nucleR_2.32.0.tar.gz PackageFileSize: 1.728 MiB