Package: nuCpos Version: 1.18.0 Command: /Library/Frameworks/R.framework/Resources/bin/R CMD INSTALL nuCpos StartedAt: 2023-10-15 15:04:03 -0400 (Sun, 15 Oct 2023) EndedAt: 2023-10-15 15:04:34 -0400 (Sun, 15 Oct 2023) EllapsedTime: 31.0 seconds RetCode: 0 Status: OK