Package: nuCpos Version: 1.18.0 Command: /Library/Frameworks/R.framework/Resources/bin/R CMD check --install=check:nuCpos.install-out.txt --library=/Library/Frameworks/R.framework/Resources/library --no-vignettes --timings nuCpos_1.18.0.tar.gz StartedAt: 2023-10-16 04:44:07 -0400 (Mon, 16 Oct 2023) EndedAt: 2023-10-16 04:45:20 -0400 (Mon, 16 Oct 2023) EllapsedTime: 73.3 seconds RetCode: 0 Status: OK CheckDir: nuCpos.Rcheck Warnings: 0