Package: normr Version: 1.26.0 Command: F:\biocbuild\bbs-3.17-bioc\R\bin\R.exe CMD check --no-multiarch --install=check:normr.install-out.txt --library=F:\biocbuild\bbs-3.17-bioc\R\library --no-vignettes --timings normr_1.26.0.tar.gz StartedAt: 2023-10-16 04:48:30 -0400 (Mon, 16 Oct 2023) EndedAt: 2023-10-16 04:52:57 -0400 (Mon, 16 Oct 2023) EllapsedTime: 266.6 seconds RetCode: 0 Status: WARNINGS CheckDir: normr.Rcheck Warnings: 2