Package: normr Version: 1.26.0 Command: rm -rf normr.buildbin-libdir && mkdir normr.buildbin-libdir && F:\biocbuild\bbs-3.17-bioc\R\bin\R.exe CMD INSTALL --build --library=normr.buildbin-libdir normr_1.26.0.tar.gz StartedAt: 2023-10-16 09:11:35 -0400 (Mon, 16 Oct 2023) EndedAt: 2023-10-16 09:12:38 -0400 (Mon, 16 Oct 2023) EllapsedTime: 63.2 seconds RetCode: 0 Status: OK PackageFile: normr_1.26.0.zip PackageFileSize: 3.739 MiB