Package: normr Version: 1.26.0 Command: /Library/Frameworks/R.framework/Resources/bin/R CMD check --install=check:normr.install-out.txt --library=/Library/Frameworks/R.framework/Resources/library --no-vignettes --timings normr_1.26.0.tar.gz StartedAt: 2023-10-16 04:42:19 -0400 (Mon, 16 Oct 2023) EndedAt: 2023-10-16 04:53:11 -0400 (Mon, 16 Oct 2023) EllapsedTime: 652.4 seconds RetCode: 0 Status: WARNINGS CheckDir: normr.Rcheck Warnings: 1