Package: normr Version: 1.26.0 Command: rm -rf normr.buildbin-libdir && mkdir normr.buildbin-libdir && /Users/biocbuild/BBS/utils/build-universal.sh normr_1.26.0.tar.gz /Library/Frameworks/R.framework/Resources/bin/R normr.buildbin-libdir StartedAt: 2023-10-16 09:50:45 -0400 (Mon, 16 Oct 2023) EndedAt: 2023-10-16 09:53:14 -0400 (Mon, 16 Oct 2023) EllapsedTime: 148.7 seconds RetCode: 0 Status: OK PackageFile: normr_1.26.0.tgz PackageFileSize: 4.078 MiB